BEGIN:VCALENDAR
VERSION:2.0
PRODID:-//Dans les pas du hérisson - ECPv5.14.2.1//NONSGML v1.0//EN
CALSCALE:GREGORIAN
METHOD:PUBLISH
X-WR-CALNAME:Dans les pas du hérisson
X-ORIGINAL-URL:https://danslespasduherisson.fr
X-WR-CALDESC:Events for Dans les pas du hérisson
REFRESH-INTERVAL;VALUE=DURATION:PT1H
X-Robots-Tag:noindex
X-PUBLISHED-TTL:PT1H
BEGIN:VTIMEZONE
TZID:UTC
BEGIN:STANDARD
TZOFFSETFROM:+0000
TZOFFSETTO:+0000
TZNAME:UTC
DTSTART:20260101T000000
END:STANDARD
END:VTIMEZONE
BEGIN:VEVENT
DTSTART;VALUE=DATE:20260426
DTEND;VALUE=DATE:20260504
DTSTAMP:20260422T141635
CREATED:20260218T151553Z
LAST-MODIFIED:20260218T151553Z
UID:4063-1777161600-1777852799@danslespasduherisson.fr
SUMMARY:Open 35 - Saint Malo
DESCRIPTION:OPEN 35 DE SAINT-MALO \n  \n 
URL:https://danslespasduherisson.fr/evenement/open26
LOCATION:Saint-Malo
ATTACH;FMTTYPE=image/jpeg:https://danslespasduherisson.fr/wp-content/uploads/2026/02/IMG_8814.jpg
END:VEVENT
BEGIN:VEVENT
DTSTART;VALUE=DATE:20260530
DTEND;VALUE=DATE:20260531
DTSTAMP:20260422T141635
CREATED:20260218T150232Z
LAST-MODIFIED:20260228T101249Z
UID:4056-1780099200-1780185599@danslespasduherisson.fr
SUMMARY:Concert solidaire / Les Zikos au grand coeur
DESCRIPTION:CONCERT SOLIDAIRE\nIl y a 8 ans\, Jean-Pierre Réminiac et son ami David Bougeard (aussi amis de longue date avec les fondateurs de notre association) souhaitent monter un projet musical ensemble\, pour l’association Mille et Un Sourires dans laquelle Jean-Pierre est investi. De cette idée est né le concert solidaire au titre évocateur « Les Zikos Au Grand Cœur ». Guitariste et chanteur depuis 35 ans\, David réunit alors son frère\, des cousins et amis pour l’accompagner sur scène. \nSuite au succès de la 1ère édition en 2018\, puis d’un second concert en 2022\, Jean-Pierre et Mathilde Cohan (nouvelle bénévole de l’antenne 1001 Sourires d’Ille-et-Vilaine) ont rassemblé une équipe autour d’eux pour préparer une 3ème édition en mai prochain. \nDepuis plusieurs semaines\, les musiciens se sont déjà réunis pour les répétitions et tous les bénévoles sont à pied d’œuvre pour la logistique de l’évènement afin que cette journée reste à nouveau dans les mémoires. \nPour ce nouvel événement\, les bénéfices de Mille et Un Sourires\, seront partagés avec notre association.  \nMille et Un Sourires apporte du réconfort aux enfants malades ou en situation de handicap et à leur famille. Créée en 2002 sous le nom de l’association Fanou\, Mille et un Sourires prend le relais en 2009. Depuis\, elle déploie beaucoup d’énergie pour rassembler autour d’elle un réseau de partenaires avec un défi commun « Redonner le sourire aux enfants et leur famille ». \nElle rayonne sur 3 départements bretons (Ille-et-Vilaine\, Morbihan et Côtes d’Armor) et intervient auprès des enfants aussi bien à domicile qu’à l’hôpital pour redonner le sourire par un soutien moral\, financier ou administratif. \nPour cette activité\, nous avons besoin de bénévoles. \nBILLETTERIE (ouverte à compter du 10 mars 2026) \nhttps://www.helloasso.com/associations/dans-les-pas-du-herisson/evenements/concert-solidaire-les-zikos-au-grand-coeur \n 
URL:https://danslespasduherisson.fr/evenement/zikos
LOCATION:Saint Gilles
ATTACH;FMTTYPE=image/jpeg:https://danslespasduherisson.fr/wp-content/uploads/2026/02/Affiche-officielle-LZAGC_3eme-edition_2026-2.jpg
END:VEVENT
END:VCALENDAR