BEGIN:VCALENDAR
VERSION:2.0
PRODID:-//Dans les pas du hérisson - ECPv5.14.2.1//NONSGML v1.0//EN
CALSCALE:GREGORIAN
METHOD:PUBLISH
X-WR-CALNAME:Dans les pas du hérisson
X-ORIGINAL-URL:https://danslespasduherisson.fr
X-WR-CALDESC:Events for Dans les pas du hérisson
REFRESH-INTERVAL;VALUE=DURATION:PT1H
X-Robots-Tag:noindex
X-PUBLISHED-TTL:PT1H
BEGIN:VTIMEZONE
TZID:UTC
BEGIN:STANDARD
TZOFFSETFROM:+0000
TZOFFSETTO:+0000
TZNAME:UTC
DTSTART:20260101T000000
END:STANDARD
END:VTIMEZONE
BEGIN:VEVENT
DTSTART;VALUE=DATE:20260110
DTEND;VALUE=DATE:20260111
DTSTAMP:20260424T085725
CREATED:20251015T114944Z
LAST-MODIFIED:20251229T140040Z
UID:3820-1768003200-1768089599@danslespasduherisson.fr
SUMMARY:Aqua-sophrologie
DESCRIPTION:NOUVELLE EXPÉRIENCE BIEN-ÊTRE\nLa sophrologie vise à aider une personne dans sa recherche de bien-être\, pour améliorer sa qualité de vie quelles que soient les difficultés qu’elle peut rencontrer. Son but est de développer la conscience d’un individu. Les bénéfices de la sophrologie étant décuplés par l’eau\, nous avons envie de proposer aux jeunes de tenter l’expérience avec Amélie Martin\, sophrologue formée à la méthode “aguasofro”. Cette méthode permet :  \n\nDétente\, relaxation globale et profonde\nLibération des tensions : physiques\, mentales\, émotionnelles\, stress…\nHarmonie corps & esprit : s’accepter\, confiance & estime de soi\, mieux gérer la douleur…\nProfond lâcher-prise\, retour à l’instant présent\nPleine conscience\, se reconnecter à soi-même\n\nPour cette activité\, nous avons encore besoin d’un accompagnateur. Merci de vous inscrire sur asso.dph@gmail.com \nPour cette sortie\, nous n’avons plus besoin de bénévoles\, merci pour votre participation.
URL:https://danslespasduherisson.fr/evenement/sophrologie
LOCATION:La Chapelle des Fougeretz
ATTACH;FMTTYPE=image/jpeg:https://danslespasduherisson.fr/wp-content/uploads/2025/10/IMG_6469.jpg
END:VEVENT
BEGIN:VEVENT
DTSTART;VALUE=DATE:20260117
DTEND;VALUE=DATE:20260118
DTSTAMP:20260424T085725
CREATED:20251119T104719Z
LAST-MODIFIED:20260122T121131Z
UID:3895-1768608000-1768694399@danslespasduherisson.fr
SUMMARY:Crêperie éphémère
DESCRIPTION:C’était la 16ème édition de la Crêperie Ephémère…une histoire bien rodée ! Que ce soit du côté des clients (Sachez que certains se battent pour essayer d’y revenir à chaque édition)\, du côté des bénévoles très assidus\, du côté de l’organisation\, et bien sûr et surtout du côté des jeunes. Ils nous témoignent à chaque fois le plaisir qu’ils ont à travailler pour accueillir et servir des clients satisfaits. Ils n’ont plus aucun stress\, se font confiance. L’aide légitime dont ils pourraient avoir besoin se fait de plus en plus rare ! Nous remarquons aussi leur capacité à s’adapter à de nouvelles consignes\, à des imprévus de dernières minutes sans aucune difficulté. Outre le travail et les contraintes imposées par le service\, les jeunes aiment accueillir de nouvelles personnes et communiquent volontiers. Cette évolution très positive dans le relationnel est d’ailleurs impressionnante et peut-être même émouvante… \nNous remercions très sincèrement les membres du Rotary Club de Bruz d’être venus déjeuner. Nous rappelons qu’ils ont organisé au mois d’Octobre une compétition de Golf caritative qui contribue au financement de la rénovation de notre local associatif.  \nMerci à Pierre\, Paul et Kiche sur qui on peut compter à chaque édition\, merci pour cette fois aux étudiantes de Rennes 2 qui ont accompli un travail remarquable et merci aux clients qui nous font confiance.
URL:https://danslespasduherisson.fr/evenement/creperie-ephemere-16
LOCATION:Betton
ATTACH;FMTTYPE=image/jpeg:https://danslespasduherisson.fr/wp-content/uploads/2025/11/WhatsApp-Image-2026-01-19-at-18.23.03-1.jpeg
END:VEVENT
BEGIN:VEVENT
DTSTART;VALUE=DATE:20260124
DTEND;VALUE=DATE:20260125
DTSTAMP:20260424T085725
CREATED:20251015T123908Z
LAST-MODIFIED:20260129T182755Z
UID:3835-1769212800-1769299199@danslespasduherisson.fr
SUMMARY:Assemblée Générale / Galette des rois
DESCRIPTION:En cette fin du mois de janvier\, nous avons réuni nos adhérents pour notre Assemblée Générale. Camille\, notre présidente est directement entrée dans le vif du sujet en proposant le visionnage de notre traditionnelle vidéo rétrospective des activités de l’année. Cette dernière est probablement beaucoup plus évocatrice que de longs discours ! Nous avons poursuivi avec un petit mot sur les jeunes toujours assidus et motivés pour tout ce que nous pouvons leur organiser. Dans le point suivant\, Anne-Marie et Sylvie ont mis en avant 3 actions phares de  bénévolat : la commission restauration\, la commission finance\, puis la validation de l’engagement étudiant. Enfin\, nous avons souhaité informer nos adhérents de l’évolution de l’association. Vincent a présenté le projet du local associatif avec les premiers travaux et l’ébauche des premiers plans puis le projet d’habitat. Paul\, a exposé le développement de la Crêperie éphémère et Baptiste\, le gros travail de l’association sur le partenariat nous permettant d’élargir nos actions et notre visibilité. Retenez les prochains événements ouverts à tous avant l’été : Le Challenge des Hérissons (dernière semaine d’avril)\, Le concert solidaire des Zikos en partenariat avec Mille et Un Sourires le 30 mai et Le laser Run en partenariat avec Décathlon le 6 juin.  \nPour terminer\, Adrien nous a présenté son bilan comptable 2025 et le prévisionnel 2026. Puis nous avons procédé aux votes : réélection du bureau\, comptes\, montant adhésion et modification des statuts. \nCette Assemblée s’est terminée par une excellente galette des rois généreusement offerte par la Boulangerie l’Attrape-douceurs.  \nUn grand merci à Henri pour le montage de la vidéo qu’on adore. Merci à Lily-Laure\, Méline\, Ludivine et Cassandre les étudiantes présentes. \nMerci à la Mairie de Betton pour le prêt de la salle Anita Conti. 
URL:https://danslespasduherisson.fr/evenement/assemblee-generale26
LOCATION:Betton
ATTACH;FMTTYPE=image/jpeg:https://danslespasduherisson.fr/wp-content/uploads/2025/12/IMG_6473-2.jpg
END:VEVENT
END:VCALENDAR