BEGIN:VCALENDAR
VERSION:2.0
PRODID:-//Dans les pas du hérisson - ECPv5.14.2.1//NONSGML v1.0//EN
CALSCALE:GREGORIAN
METHOD:PUBLISH
X-WR-CALNAME:Dans les pas du hérisson
X-ORIGINAL-URL:https://danslespasduherisson.fr
X-WR-CALDESC:Events for Dans les pas du hérisson
REFRESH-INTERVAL;VALUE=DURATION:PT1H
X-Robots-Tag:noindex
X-PUBLISHED-TTL:PT1H
BEGIN:VTIMEZONE
TZID:UTC
BEGIN:STANDARD
TZOFFSETFROM:+0000
TZOFFSETTO:+0000
TZNAME:UTC
DTSTART:20250101T000000
END:STANDARD
END:VTIMEZONE
BEGIN:VEVENT
DTSTART;VALUE=DATE:20250906
DTEND;VALUE=DATE:20250907
DTSTAMP:20260424T122056
CREATED:20250510T121636Z
LAST-MODIFIED:20250911T184313Z
UID:3553-1757116800-1757203199@danslespasduherisson.fr
SUMMARY:Crêperie Terrasse
DESCRIPTION:Ce samedi\, s’est tenue la 14ème édition de la crêperie éphémère. Au compteur\, 56 couverts en terrasse. On peut dire que nous avions placé la barre très haute pour les 6 jeunes au service. Ils avaient tous au minimum 2 tables (pouvant représenter 13 à 14 personnes) à servir sur un même service ! Et vous savez quoi ? Ils se sont fort bien débrouillés pour accomplir l’enchaînement des tâches requises  : mise en place\, service\, commandes cuisine\, débarrassage…impressionnant. Quels progrès ! Nous sommes tellement fiers de les voir faire leur maximum avec le sourire et le plaisir de l’accomplissement du  travail bien fait. Quelle autonomie gagnée à chaque fois ! Les jeunes réalisent maintenant ce travail difficile seuls\, savent établir des échanges avec les clients et\, en confiance\, ils n’hésitent pas à demander de l’aide quand ils ont un petit doute. Encore une fois\, nous avons montré que l’adaptation du travail est possible\, pour qui s’en donne la peine. \nNous avons eu l’honneur d’accueillir pour cette édition des partenaires qui nous soutiennent financièrement et nous permettent ainsi la mise en place de projets de grande ampleur :  \n\ndes membres du Club Hervé spectacle Rennes  \nGwenaëlle Bougeard\, assistante de direction chez Citédia Métropole\n\nNous leur adressons nos plus sincères remerciements. \nCette crêperie n’aurait pu se dérouler sans les bénévoles. Merci à Pierre\, toujours fidèle au poste depuis le début. Chef Paul pour sa patience\, sa grande écoute\, son calme et son orchestration de maître en cuisine (impossible sans lui). Un grand merci à Circé\, Ludivine\, et Maëllys et Christèle pour leur efficacité…on les garde pour la prochaine édition du 29 novembre. 
URL:https://danslespasduherisson.fr/evenement/creperie-terrasse25
LOCATION:Betton
ATTACH;FMTTYPE=image/jpeg:https://danslespasduherisson.fr/wp-content/uploads/2025/05/8bf1e375-bac9-4742-9e1e-9ea3716024b5.jpg
END:VEVENT
BEGIN:VEVENT
DTSTART;VALUE=DATE:20250913
DTEND;VALUE=DATE:20250914
DTSTAMP:20260424T122056
CREATED:20250401T122420Z
LAST-MODIFIED:20250813T150000Z
UID:3482-1757721600-1757807999@danslespasduherisson.fr
SUMMARY:Catamaran / Emeraude voile solidaire
DESCRIPTION:UNE RENTRÉE QUI COMMENCE BIEN ! \nNous avions tellement apprécié la première fois\, que nous avons décidé de renouveler notre candidature auprès d’Emeraude voile solidaire pour vivre une journée à bord d’un catamaran ! C’était il y a 3 ans déjà. Nous avons donc la chance de reconduire cette expérience. Cette journée en mer a pour but d’offrir aux invités de l’équipage d’Emeraude Solidaire Voile un moment hors du temps afin de découvrir de nouvelles sensations. Chacun est accueilli avec beaucoup de bienveillance\, peu importe ses fragilités. \nL’Ephata\, est un catamaran de 18 mètres\, spécialement conçu pour emmener des groupes naviguer à la journée en toute sécurité. Du Cap Fréhel aux îles Chausey\, la Côte d’Emeraude nous offre des paysages somptueux et toujours différents selon la lumière ou la marée. \nLe skipper choisit la destination de la journée en fonction de la météo et des courants. Les zones de mouillage pour la pause pique-nique sont nombreuses et plus jolies les unes que les autres : Havre de Rothéneuf\, île des Ebihens\, Fort La Latte\, Cézembre\, Saint-Malo\, Cancale\, Chausey… \nSi la météo le permet\, on peut même se baigner et parfois voir des dauphins ! \nPour cette activité\, nous n’avons plus besoin d’accompagnateurs\, merci pour votre participation. 
URL:https://danslespasduherisson.fr/evenement/catamaran25
LOCATION:Dinard
ATTACH;FMTTYPE=image/jpeg:https://danslespasduherisson.fr/wp-content/uploads/2022/08/ea2bdeff-9fbb-44f9-8603-802d0b7a398b.jpg
END:VEVENT
BEGIN:VEVENT
DTSTART;VALUE=DATE:20250920
DTEND;VALUE=DATE:20250921
DTSTAMP:20260424T122056
CREATED:20250510T125943Z
LAST-MODIFIED:20250923T115840Z
UID:3556-1758326400-1758412799@danslespasduherisson.fr
SUMMARY:Sortie mer avec l'ASLAB
DESCRIPTION:On profite de la saison pour proposer aux jeunes des activités en mer. Pour cette fois\, ils ont pu découvrir la voile sur la Rance martine au départ du joli port de Plouër sur Rance dans les Côtes d’Armor. La journée a été organisée par ASLAB (association sports et loisirs adaptés Bretagne) et ça change tout ! Après un accueil des plus sympathiques autour d’un petit déjeuner\, les jeunes et les bénévoles ont été répartis dans 3 voiliers composant une armada de 10 bateaux quittant le port.  \nIls ont pu profiter pleinement de la balade proposée en hissant les voiles et en naviguant en vent arrière jusqu’après Saint-Suliac.  \nJulien\, Mathis\, Nathan\, Jacques Yves\, Victor ont pu alors prendre la barre sous l’œil bienveillant des skippers.  \nLe retour s’est fait “au près”\, c’est-à-dire en remontant au plus près du vent. Et là\, le bateau penche\, il faut vaincre ses émotions et garder l’équilibre !  \nA cause de la météo\, il n’a pas été possible de déjeuner à bord comme prévu. Nos marins ont alors débarqué pour prendre un repas tous ensemble et assister à la remise des diplômes bien mérités !  \nMerci à Tanguy et Eric. Merci à Michel Leblanc et à son équipe pour leur gentillesse\, leur patience. Grâce aux adaptations bien pensées lors de cette sortie voile les jeunes ont pu en profiter pleinement.
URL:https://danslespasduherisson.fr/evenement/aslab
LOCATION:Plouer sur Rance
ATTACH;FMTTYPE=image/jpeg:https://danslespasduherisson.fr/wp-content/uploads/2025/05/2e173c48-7b48-488b-9b2a-2b7e4d4b399b.jpg
END:VEVENT
BEGIN:VEVENT
DTSTART;VALUE=DATE:20250927
DTEND;VALUE=DATE:20250928
DTSTAMP:20260424T122056
CREATED:20250510T133527Z
LAST-MODIFIED:20251001T193909Z
UID:3567-1758931200-1759017599@danslespasduherisson.fr
SUMMARY:Cobac Parc / Aqua'fun
DESCRIPTION:Les jeunes et les bénévoles ont passé une très bonne journée à Cobac parc. Ce parc naturel de 12 hectares est d’abord un lieu agréable où il est très facile de circuler. Avec plus de 40 attractions\, on sait qu’il y en a pour tous les goûts\, chacun étant libre de se laisser tenter ou pas. Les jeunes ont pu essayer de nombreuses attractions et même faire des choix en connaisseurs puisque nous leur avons proposé cette activité pour la 2ème fois : le graal\, la ronde des fées\, la croisières des légendes…et bien plus ! Bonne surprise\, une nouveauté : “Tempête”\, une attraction unique en Europe\, qui offre des rotations à 360 degrés (et nous rajouterons qui demande du courage ! ) Mathis a beaucoup aimé. \nLe temps le permettant\, certains des jeunes ont pu également se distraire dans les toboggans aquatiques de l’aquafun.  \nCe parc a toujours beaucoup de succès auprès des jeunes\, et on les comprend. Cet endroit familial et adapté permet à tous des moments très ludiques et plus encore\, le développement de la confiance en soi.  \nMerci à Maëllys et Méline qui ont joué le jeu ! 
URL:https://danslespasduherisson.fr/evenement/cobac-parc-aquafun25
LOCATION:Lanhélin\, 85590
ATTACH;FMTTYPE=image/jpeg:https://danslespasduherisson.fr/wp-content/uploads/2025/05/0d9f3680-deb4-4d56-9507-7f933f3b8713-2.jpg
END:VEVENT
END:VCALENDAR