BEGIN:VCALENDAR
VERSION:2.0
PRODID:-//Dans les pas du hérisson - ECPv5.14.2.1//NONSGML v1.0//EN
CALSCALE:GREGORIAN
METHOD:PUBLISH
X-WR-CALNAME:Dans les pas du hérisson
X-ORIGINAL-URL:https://danslespasduherisson.fr
X-WR-CALDESC:Events for Dans les pas du hérisson
REFRESH-INTERVAL;VALUE=DURATION:PT1H
X-Robots-Tag:noindex
X-PUBLISHED-TTL:PT1H
BEGIN:VTIMEZONE
TZID:UTC
BEGIN:STANDARD
TZOFFSETFROM:+0000
TZOFFSETTO:+0000
TZNAME:UTC
DTSTART:20250101T000000
END:STANDARD
END:VTIMEZONE
BEGIN:VEVENT
DTSTART;VALUE=DATE:20250614
DTEND;VALUE=DATE:20250615
DTSTAMP:20260424T175746
CREATED:20241230T143221Z
LAST-MODIFIED:20250618T152717Z
UID:3290-1749859200-1749945599@danslespasduherisson.fr
SUMMARY:Festival Robinson
DESCRIPTION:Nathalie\, l’éducatrice spécialisée de notre association\, a pris contact avec Noémie Chevrel en charge de la culture sur la commune de Saint Grégoire. Cela a débouché sur un petit partenariat à l’occasion du Festival Robinson. Elles ont imaginé la possibilité d’intégrer les jeunes à la réalisation des décors du festival. Cela n’aurait bien entendu pu se faire sans Suzanne et ses bénévoles qui sont venues à notre rencontre pour accompagner les jeunes et les aider à accomplir ce travail. Après avoir réalisé sur plusieurs séances des fleurs géantes à piquer dans le sol\, des guirlandes en tissus multicolores déchirés\, des lettres géantes métalliques pour matérialiser les différents espaces de spectacles…les jeunes sont allés les installer sur le site. Et puis ils ont enfin pu assister en tant que spectateur à plusieurs des spectacles proposés : Les autres mondes\, Les petits plats dans les grands et Pulse. Merci à Nathalie et aux bénévoles du Festival pour ce projet à la fois utile\, inclusif et culturel !
URL:https://danslespasduherisson.fr/evenement/festival-robinson
LOCATION:Saint Grégoire
ATTACH;FMTTYPE=image/jpeg:https://danslespasduherisson.fr/wp-content/uploads/2024/12/37c1cf98-8d02-4fec-9df4-ef29dadc4227.jpg
END:VEVENT
BEGIN:VEVENT
DTSTART;VALUE=DATE:20250621
DTEND;VALUE=DATE:20250622
DTSTAMP:20260424T175746
CREATED:20250309T094251Z
LAST-MODIFIED:20250702T094109Z
UID:3422-1750464000-1750550399@danslespasduherisson.fr
SUMMARY:Crêperie Guinguette
DESCRIPTION:Dans un cadre bucolique\, décoré avec les créations des jeunes\, la Crêperie Guinguette a été marquée par de fortes températures qui n’ont pas arrêté notre entrain pour satisfaire les clients ! Chacun à leur poste\, Julien au bar\, Fleur à la réception\, Hélène à la galette saucisse\, Robin aux boissons chaudes et Victor aux frites\, ils ont travaillé avec motivation pour remplir leur mission. Bravo pour leur investissement ! Par ailleurs\, les jeunes ont été ravis de faire la connaissance de nouvelles personnes venues découvrir par ce biais notre association. Nous en remercions profitons pour remercier les fidèles qui nous font confiance.  \nMerci aux bénévoles qui œuvrent pour rendre ces moments possibles : Kiki\, Amandine\, Virgile et Valérie.  \nAttention\, prochaine Crêperie Terrasse le 6 septembre ! 
URL:https://danslespasduherisson.fr/evenement/creperie-guinguette25
LOCATION:Betton
ATTACH;FMTTYPE=image/jpeg:https://danslespasduherisson.fr/wp-content/uploads/2025/03/IMG_4856-scaled.jpg
END:VEVENT
BEGIN:VEVENT
DTSTART;VALUE=DATE:20250628
DTEND;VALUE=DATE:20250629
DTSTAMP:20260424T175746
CREATED:20250309T101305Z
LAST-MODIFIED:20250702T094745Z
UID:3426-1751068800-1751155199@danslespasduherisson.fr
SUMMARY:Laser Run / DÉCATHLON
DESCRIPTION:En partenariat avec Décathlon Betton\, notre association Dans les Pas du Hérisson a organisé ce samedi 28 juin\, un Laser run solidaire. Le but de cet événement sportif entièrement imaginé par le bureau et Tanguy Pirotais\, bénévole de l’association\, était de récolter des fonds pour organiser des activités pour les jeunes adultes autistes que nous accompagnons.  \nUn format original apprécié des coureurs : un relais par équipe de 5 relayeurs ponctué par des tirs à la carabine pouvant entraîner des pénalités\, et enfin un 5ème tour réalisé par toute l’équipe. Une course à la fois ludique et sportive !  \nUne organisation bien pensée aura fait de cette première édition un réel succès mais il n’aurait été possible sans les partenaires qui ont cru à cet événement et qui nous ont offert : \n\nDÉCATHLON Betton : le site et une partie du matériel loué\, les dossards \nBagot et Associés  : l’intégralité des tee-shirts coureurs et bénévoles \nCarrefour market Betton : les sacs de goûters \nL’UNSS 35 : le prêt des carabines enfants \nAgence 3NEO\, Thierry Eon : l’animation \nLa fromagerie du Gros Chêne /Betton : des yaourts pour l’ensemble des coureurs\nBernard Meyran : les photos \nCédric Morel : service secours médical \nBreizh Padel : une partie du matériel loué (carabines adultes et prestataire initiation) \n\n\nBien évidemment nous remercions tous les bénévoles présents sur l’événement  \nSi vous souhaitez être partenaire de la 2ème édition\, n’hésitez pas à déjà nous contacter : asso.dph@gmail.com \nLes photos de cet article sont de Bernard Meyran
URL:https://danslespasduherisson.fr/evenement/laser-run-25
LOCATION:Betton
ATTACH;FMTTYPE=image/jpeg:https://danslespasduherisson.fr/wp-content/uploads/2025/03/DSC01312-scaled.jpg
END:VEVENT
END:VCALENDAR