BEGIN:VCALENDAR
VERSION:2.0
PRODID:-//Dans les pas du hérisson - ECPv5.14.2.1//NONSGML v1.0//EN
CALSCALE:GREGORIAN
METHOD:PUBLISH
X-WR-CALNAME:Dans les pas du hérisson
X-ORIGINAL-URL:https://danslespasduherisson.fr
X-WR-CALDESC:Events for Dans les pas du hérisson
REFRESH-INTERVAL;VALUE=DURATION:PT1H
X-Robots-Tag:noindex
X-PUBLISHED-TTL:PT1H
BEGIN:VTIMEZONE
TZID:UTC
BEGIN:STANDARD
TZOFFSETFROM:+0000
TZOFFSETTO:+0000
TZNAME:UTC
DTSTART:20260101T000000
END:STANDARD
END:VTIMEZONE
BEGIN:VEVENT
DTSTART;VALUE=DATE:20260614
DTEND;VALUE=DATE:20260615
DTSTAMP:20260424T120223
CREATED:20260121T155929Z
LAST-MODIFIED:20260325T125243Z
UID:3931-1781395200-1781481599@danslespasduherisson.fr
SUMMARY:Motocross
DESCRIPTION:MOTOCROSS D’IFFENDIC \nPlus de détail ultérieurement \nPour cette activité\, nous avons besoin de bénévoles. Merci de vous inscrire sur asso.dph@gmail.com \n 
URL:https://danslespasduherisson.fr/evenement/motocross26
LOCATION:Iffendic
ATTACH;FMTTYPE=image/jpeg:https://danslespasduherisson.fr/wp-content/uploads/2026/01/WhatsApp-Image-2026-03-12-at-22.18.13.jpeg
END:VEVENT
END:VCALENDAR