BEGIN:VCALENDAR
VERSION:2.0
PRODID:-//Dans les pas du hérisson - ECPv5.14.2.1//NONSGML v1.0//EN
CALSCALE:GREGORIAN
METHOD:PUBLISH
X-WR-CALNAME:Dans les pas du hérisson
X-ORIGINAL-URL:https://danslespasduherisson.fr
X-WR-CALDESC:Events for Dans les pas du hérisson
REFRESH-INTERVAL;VALUE=DURATION:PT1H
X-Robots-Tag:noindex
X-PUBLISHED-TTL:PT1H
BEGIN:VTIMEZONE
TZID:UTC
BEGIN:STANDARD
TZOFFSETFROM:+0000
TZOFFSETTO:+0000
TZNAME:UTC
DTSTART:20260101T000000
END:STANDARD
END:VTIMEZONE
BEGIN:VEVENT
DTSTART;VALUE=DATE:20260329
DTEND;VALUE=DATE:20260413
DTSTAMP:20260422T105349
CREATED:20260206T161859Z
LAST-MODIFIED:20260421T072406Z
UID:4042-1774742400-1776038399@danslespasduherisson.fr
SUMMARY:Challenge Dans les Pas du Hérisson
DESCRIPTION:En solo\, en famille\, en couple ou entre amis\, de 9 mois à 90 ans\, notre challenge a connu un vif succès et nous tenons à remercier très sincèrement toutes les personnes qui se sont prêtées au jeu en se lançant leur propre défi dans le but de nous soutenir. Notre challenge sportif a traversé les communes de notre département\, mais aussi différentes villes de France (Orléans\, Poissy\, Toulouse\, Nogent sur Oise\, Clamart …et beaucoup d’autres) et encore mieux les frontières puisque certains ont foulé le sol coréen et néo-zélandais !  \nBravo à tous…Merci aussi à ceux qui nous ont envoyé leur photo pour illustrer leur bel effort.  \nBien évidemment les fonds récoltés vont nous permettre de financer des projets pour les jeunes que nous accompagnons.  \nNous vous avions promis des lots par tirage au sort\, voici les heureux gagnants :  \n2 places pour la demi-finale de l’Open 35 de Saint-Malo WTA + Déjeuner VIP ( Valeur 460 euros)- dossard  233 \n2 places crêperie éphémère (septembre) + 1 tee-shirt de l’association (valeur 50 euros)- dossard  412 \n1 sweat de l’association (valeur 40 euros) – dossard 304 \n1 soin visage “l’essentiel” chez Passage bleu/Chantepie (valeur 33 euros)- dossard 231 \n1 soin “l’essentiel” chez Passage bleu/Chantepie (valeur 33 euros)- dossard  3 \n1 affiche La Loutre “Chemin dans la main” (valeur 19\,90 euros)- dossard 504 \nMention spéciale à Fleur qui a trouvé 35 parrains pour ce challenge ! Bravo pour son implication\, c’est avec plaisir que nous lui avons remis un panier garni La Vie Claire.  \nAlors vous êtes prêts à remettre ça l’année prochaine ? 
URL:https://danslespasduherisson.fr/evenement/challenge-26
ATTACH;FMTTYPE=image/jpeg:https://danslespasduherisson.fr/wp-content/uploads/2026/04/0bda46b6-f60b-4871-8cfe-97c9ac6c5c81.jpg
END:VEVENT
END:VCALENDAR