BEGIN:VCALENDAR
VERSION:2.0
PRODID:-//Dans les pas du hérisson - ECPv5.14.2.1//NONSGML v1.0//EN
CALSCALE:GREGORIAN
METHOD:PUBLISH
X-WR-CALNAME:Dans les pas du hérisson
X-ORIGINAL-URL:https://danslespasduherisson.fr
X-WR-CALDESC:Events for Dans les pas du hérisson
REFRESH-INTERVAL;VALUE=DURATION:PT1H
X-Robots-Tag:noindex
X-PUBLISHED-TTL:PT1H
BEGIN:VTIMEZONE
TZID:UTC
BEGIN:STANDARD
TZOFFSETFROM:+0000
TZOFFSETTO:+0000
TZNAME:UTC
DTSTART:20260101T000000
END:STANDARD
END:VTIMEZONE
BEGIN:VEVENT
DTSTART;VALUE=DATE:20260314
DTEND;VALUE=DATE:20260315
DTSTAMP:20260422T141602
CREATED:20251013T135139Z
LAST-MODIFIED:20260318T164132Z
UID:3815-1773446400-1773532799@danslespasduherisson.fr
SUMMARY:Légendes de Brocéliande
DESCRIPTION:Pour cette sortie en terre de Brocéliande\, les jeunes ont d’abord découvert le parcours de  “La porte des secrets” aménagé dans les anciennes dépendances de l’abbaye de Paimpont. Cette immersion féérique leur a permis de plonger immédiatement dans le monde imaginaire et mystérieux de Brocéliande. Chacun s’est laissé porté comme par enchantement… \nAprès cette introduction\, et pour compléter la visite\, les jeunes ont bénéficié d’une balade contée de 2h au bord de l’étang de Paimpont. Ils ont écouté avec intérêt le récit des légendes anciennes et passionnantes mettant en scène les Korrigans\, sorcières\, dragons\, géants et autres créatures de la nuit et bien sûr les célèbres Merlin\, fées Viviane et Morgane…Entre réalités historiques et légendes\, la frontière est floue et c’est sans doute ce qui les a perturbés ou amusés !  \nOn retiendra qu’en plus d’une promenade dans un cadre très agréable\, les jeunes ont côtoyé l’univers magique de Brocéliande qui caractérise si bien la Bretagne et ils s’en souviendront.   \nMerci à François\, Emmanuelle et Pascale de nous avoir accompagnés.
URL:https://danslespasduherisson.fr/evenement/broceliande
LOCATION:Paimpont
ATTACH;FMTTYPE=image/jpeg:https://danslespasduherisson.fr/wp-content/uploads/2025/10/166f0670-5f22-4784-be9f-dba8b94d355a-2.jpg
END:VEVENT
END:VCALENDAR