BEGIN:VCALENDAR
VERSION:2.0
PRODID:-//Dans les pas du hérisson - ECPv5.14.2.1//NONSGML v1.0//EN
CALSCALE:GREGORIAN
METHOD:PUBLISH
X-WR-CALNAME:Dans les pas du hérisson
X-ORIGINAL-URL:https://danslespasduherisson.fr
X-WR-CALDESC:Events for Dans les pas du hérisson
REFRESH-INTERVAL;VALUE=DURATION:PT1H
X-Robots-Tag:noindex
X-PUBLISHED-TTL:PT1H
BEGIN:VTIMEZONE
TZID:UTC
BEGIN:STANDARD
TZOFFSETFROM:+0000
TZOFFSETTO:+0000
TZNAME:UTC
DTSTART:20260101T000000
END:STANDARD
END:VTIMEZONE
BEGIN:VEVENT
DTSTART;VALUE=DATE:20260201
DTEND;VALUE=DATE:20260202
DTSTAMP:20260422T160139
CREATED:20251119T111341Z
LAST-MODIFIED:20260205T172823Z
UID:3906-1769904000-1769990399@danslespasduherisson.fr
SUMMARY:Tout Betton court
DESCRIPTION:Nous affectionnons particulièrement ce grand événement sportif bettonnais\, c’est pourquoi nous participons tous les ans à TOUT BETTON COURT depuis la création de l’association. Ainsi\, pour la 4ème année\, des coureurs ont à nouveau défendu nos couleurs\, tandis que certains sont venus nous rejoindre pour la première fois. Merci à tous. Il n’est pas trop tard pour les autres de se fixer le challenge de s’inscrire pour l’année prochaine ! Une belle perspective… \nMême si le chrono reste quand même une priorité pour un athlète\, et c’est normal\, nous sommes sensibles au soutien que chacun nous témoigne à l’occasion de cette course. L’élan qui nous pousse à franchir la ligne d’arrivée tous ensemble\, Dans les Pas du Hérisson est un symbole fort de sens auquel nous sommes attachés.  \nBravo à Etienne\, notre meilleur coureur  41: 29 mn sur le 10 km.  \nBravo à Camille\, notre meilleure coureuse et notre présidente  46 : 33 mn sur le 10 km.  \nBravo à Julien  28 : 28 mn sur le 5km et aussi bravo à Benjamin\, Victor et Fleur qui ont franchi brillamment la ligne d’arrivée !  \nCes exploits sportifs ont bien sûr donné lieu à un temps convivial tous ensemble autour d’une traditionnelle galette saucisse pour refaire la course. 
URL:https://danslespasduherisson.fr/evenement/tout-betton-court-4
LOCATION:Betton
ATTACH;FMTTYPE=image/jpeg:https://danslespasduherisson.fr/wp-content/uploads/2025/11/IMG_6515-scaled.jpg
END:VEVENT
END:VCALENDAR