BEGIN:VCALENDAR
VERSION:2.0
PRODID:-//Dans les pas du hérisson - ECPv5.14.2.1//NONSGML v1.0//EN
CALSCALE:GREGORIAN
METHOD:PUBLISH
X-WR-CALNAME:Dans les pas du hérisson
X-ORIGINAL-URL:https://danslespasduherisson.fr
X-WR-CALDESC:Events for Dans les pas du hérisson
REFRESH-INTERVAL;VALUE=DURATION:PT1H
X-Robots-Tag:noindex
X-PUBLISHED-TTL:PT1H
BEGIN:VTIMEZONE
TZID:UTC
BEGIN:STANDARD
TZOFFSETFROM:+0000
TZOFFSETTO:+0000
TZNAME:UTC
DTSTART:20250101T000000
END:STANDARD
END:VTIMEZONE
BEGIN:VEVENT
DTSTART;VALUE=DATE:20251213
DTEND;VALUE=DATE:20251214
DTSTAMP:20260422T232935
CREATED:20251116T182641Z
LAST-MODIFIED:20251216T124620Z
UID:3890-1765584000-1765670399@danslespasduherisson.fr
SUMMARY:Match au Stade rennais
DESCRIPTION:C’est en rouge et noir que les jeunes de l’association auront vécu la dernière sortie de l’année 2025. Une sortie quand même très masculine\, précisons-le…Ils se sont rendus au Roazhon park\, mais pas pour n’importe quel match : le derby breton Rennes/Brest ! Être au stade\, c’est toujours un peu la fête et si en plus l’équipe que l’on supporte gagne c’est grandiose ! Ce fut 3-1 pour Rennes : un match indécis et des Brestois qui se sont accrochés.  \nBien sûr\, pour parfaire l’ambiance\, les jeunes ont cédé à la tentation de la célèbre galette saucisse frites à la mi-temps. Au Stade\, c’est encore meilleur…
URL:https://danslespasduherisson.fr/evenement/match-au-stade-rennais
LOCATION:Rennes
ATTACH;FMTTYPE=image/jpeg:https://danslespasduherisson.fr/wp-content/uploads/2025/11/fe584958-35da-4e73-88ca-049ad0137f13.jpg
END:VEVENT
END:VCALENDAR