BEGIN:VCALENDAR
VERSION:2.0
PRODID:-//Dans les pas du hérisson - ECPv5.14.2.1//NONSGML v1.0//EN
CALSCALE:GREGORIAN
METHOD:PUBLISH
X-WR-CALNAME:Dans les pas du hérisson
X-ORIGINAL-URL:https://danslespasduherisson.fr
X-WR-CALDESC:Events for Dans les pas du hérisson
REFRESH-INTERVAL;VALUE=DURATION:PT1H
X-Robots-Tag:noindex
X-PUBLISHED-TTL:PT1H
BEGIN:VTIMEZONE
TZID:UTC
BEGIN:STANDARD
TZOFFSETFROM:+0000
TZOFFSETTO:+0000
TZNAME:UTC
DTSTART:20250101T000000
END:STANDARD
END:VTIMEZONE
BEGIN:VEVENT
DTSTART;VALUE=DATE:20251108
DTEND;VALUE=DATE:20251110
DTSTAMP:20260423T010658
CREATED:20250901T191023Z
LAST-MODIFIED:20251111T181857Z
UID:3718-1762560000-1762732799@danslespasduherisson.fr
SUMMARY:FOUR À PAIN / Pain/Maison A.de Bretagne/Mairie de Betton
DESCRIPTION: “La Chaperonnais s’anime” est un événement bettonnais autour du bien manger avec des produits locaux et de saison\, centré sur les valeurs de l’alimentation durable. Différents ateliers y sont proposés : tisane\, cuisine\, pollinisateurs\, pressoir\, pain…Ouvert au grand public\, dans une ambiance familiale\, il permet au four à bois de reprendre du service ! A cette occasion\, sélectionnée par la municipalité\, Elise Pirotais\, boulangère artisane de Maison Anne de Bretagne\, est venue au siège de l’association proposer aux jeunes un atelier pain au levain naturel. Ils ont  préparé la pâte requise pour les ateliers four à pain du lendemain. Les jeunes ont alors pu accueillir le public à la Chaperonnais\, et aider Elise sur son atelier façonnage et cuisson du pain dans le four à bois traditionnel. C’est alors 34 pains qui ont été réalisés et dégustés par un public conquis !  \nVous pouvez retrouver les pains d’Elise sur ses différents points de vente : le lundi et le mercredi à l’Épicerie Au Grand Air à Rennes\, le mardi au marché de Vezin le Coquet\, le mardi et le vendredi à l’Épicerie d’Armorique à Betton.  \nMerci à Elise pour sa grande gentillesse\, son professionnalisme et son projet inclusif.  Merci à Gwen\, Cécile et Tanguy\, merci à la Mairie de Betton\, et pour finir Merci à Eric le maître du feu. 
URL:https://danslespasduherisson.fr/evenement/four-a-pain-projet-elise-pirotais-mairie-de-betton
LOCATION:Betton
ATTACH;FMTTYPE=image/jpeg:https://danslespasduherisson.fr/wp-content/uploads/2025/09/IMG_7066-scaled.jpg
END:VEVENT
END:VCALENDAR