BEGIN:VCALENDAR
VERSION:2.0
PRODID:-//Dans les pas du hérisson - ECPv5.14.2.1//NONSGML v1.0//EN
CALSCALE:GREGORIAN
METHOD:PUBLISH
X-WR-CALNAME:Dans les pas du hérisson
X-ORIGINAL-URL:https://danslespasduherisson.fr
X-WR-CALDESC:Events for Dans les pas du hérisson
REFRESH-INTERVAL;VALUE=DURATION:PT1H
X-Robots-Tag:noindex
X-PUBLISHED-TTL:PT1H
BEGIN:VTIMEZONE
TZID:UTC
BEGIN:STANDARD
TZOFFSETFROM:+0000
TZOFFSETTO:+0000
TZNAME:UTC
DTSTART:20250101T000000
END:STANDARD
END:VTIMEZONE
BEGIN:VEVENT
DTSTART;VALUE=DATE:20250913
DTEND;VALUE=DATE:20250914
DTSTAMP:20260424T141209
CREATED:20250401T122420Z
LAST-MODIFIED:20250813T150000Z
UID:3482-1757721600-1757807999@danslespasduherisson.fr
SUMMARY:Catamaran / Emeraude voile solidaire
DESCRIPTION:UNE RENTRÉE QUI COMMENCE BIEN ! \nNous avions tellement apprécié la première fois\, que nous avons décidé de renouveler notre candidature auprès d’Emeraude voile solidaire pour vivre une journée à bord d’un catamaran ! C’était il y a 3 ans déjà. Nous avons donc la chance de reconduire cette expérience. Cette journée en mer a pour but d’offrir aux invités de l’équipage d’Emeraude Solidaire Voile un moment hors du temps afin de découvrir de nouvelles sensations. Chacun est accueilli avec beaucoup de bienveillance\, peu importe ses fragilités. \nL’Ephata\, est un catamaran de 18 mètres\, spécialement conçu pour emmener des groupes naviguer à la journée en toute sécurité. Du Cap Fréhel aux îles Chausey\, la Côte d’Emeraude nous offre des paysages somptueux et toujours différents selon la lumière ou la marée. \nLe skipper choisit la destination de la journée en fonction de la météo et des courants. Les zones de mouillage pour la pause pique-nique sont nombreuses et plus jolies les unes que les autres : Havre de Rothéneuf\, île des Ebihens\, Fort La Latte\, Cézembre\, Saint-Malo\, Cancale\, Chausey… \nSi la météo le permet\, on peut même se baigner et parfois voir des dauphins ! \nPour cette activité\, nous n’avons plus besoin d’accompagnateurs\, merci pour votre participation. 
URL:https://danslespasduherisson.fr/evenement/catamaran25
LOCATION:Dinard
ATTACH;FMTTYPE=image/jpeg:https://danslespasduherisson.fr/wp-content/uploads/2022/08/ea2bdeff-9fbb-44f9-8603-802d0b7a398b.jpg
END:VEVENT
END:VCALENDAR